BEGIN:VCALENDAR
VERSION:2.0
PRODID:-//On the Road Book Events - ECPv6.15.17.1//NONSGML v1.0//EN
CALSCALE:GREGORIAN
METHOD:PUBLISH
X-WR-CALNAME:On the Road Book Events
X-ORIGINAL-URL:https://www.ontheroadbookevents.com
X-WR-CALDESC:Events for On the Road Book Events
REFRESH-INTERVAL;VALUE=DURATION:PT1H
X-Robots-Tag:noindex
X-PUBLISHED-TTL:PT1H
BEGIN:VTIMEZONE
TZID:America/New_York
BEGIN:DAYLIGHT
TZOFFSETFROM:-0500
TZOFFSETTO:-0400
TZNAME:EDT
DTSTART:20250309T070000
END:DAYLIGHT
BEGIN:STANDARD
TZOFFSETFROM:-0400
TZOFFSETTO:-0500
TZNAME:EST
DTSTART:20251102T060000
END:STANDARD
BEGIN:DAYLIGHT
TZOFFSETFROM:-0500
TZOFFSETTO:-0400
TZNAME:EDT
DTSTART:20260308T070000
END:DAYLIGHT
BEGIN:STANDARD
TZOFFSETFROM:-0400
TZOFFSETTO:-0500
TZNAME:EST
DTSTART:20261101T060000
END:STANDARD
BEGIN:DAYLIGHT
TZOFFSETFROM:-0500
TZOFFSETTO:-0400
TZNAME:EDT
DTSTART:20270314T070000
END:DAYLIGHT
BEGIN:STANDARD
TZOFFSETFROM:-0400
TZOFFSETTO:-0500
TZNAME:EST
DTSTART:20271107T060000
END:STANDARD
END:VTIMEZONE
BEGIN:VEVENT
DTSTART;TZID=America/New_York:20260422T143000
DTEND;TZID=America/New_York:20260422T160000
DTSTAMP:20260421T125648
CREATED:20260129T175516Z
LAST-MODIFIED:20260129T175516Z
UID:4638-1776868200-1776873600@www.ontheroadbookevents.com
SUMMARY:Celebrating National Library Week: Meet Author Carol Hoenig
DESCRIPTION:Mary Calvi\, CBS News\, says this: “Carol Hoenig is a behind-the-scenes force in the publishing industry.” Take this opportunity to meet Carol\, who is the author of Before She Was a Finley\, Without Grace\, Of Little Faith and The Author’s Guide to Planning Book Events. Her essays are in a number of anthologies. She is President of Carol Hoenig Publishing Consultant\, co-owner of On the Road Book Events and co-podcaster on Wildflowers Podcast: Books\, Booze and Banter. Her next novel will be published September 2026. You may find out more about her at Carolhoenig.com\, but she invites anyone who has questions about the writing or publishing process to bring them to this event and she’ll address them. Books will be available for purchase. \n  \n 
URL:https://www.ontheroadbookevents.com/event/celebrating-national-library-week-meet-author-carol-hoenig/
LOCATION:Freeport library\, 144 West Merrick Rd.\, Freeport\, 11520\, United States
ORGANIZER;CN="Carol Hoenig":MAILTO:Carol@ontheroadbookevents.com
END:VEVENT
END:VCALENDAR