BEGIN:VCALENDAR
VERSION:2.0
PRODID:-//On the Road Book Events - ECPv6.15.17.1//NONSGML v1.0//EN
CALSCALE:GREGORIAN
METHOD:PUBLISH
X-ORIGINAL-URL:https://www.ontheroadbookevents.com
X-WR-CALDESC:Events for On the Road Book Events
REFRESH-INTERVAL;VALUE=DURATION:PT1H
X-Robots-Tag:noindex
X-PUBLISHED-TTL:PT1H
BEGIN:VTIMEZONE
TZID:America/New_York
BEGIN:DAYLIGHT
TZOFFSETFROM:-0500
TZOFFSETTO:-0400
TZNAME:EDT
DTSTART:20250309T070000
END:DAYLIGHT
BEGIN:STANDARD
TZOFFSETFROM:-0400
TZOFFSETTO:-0500
TZNAME:EST
DTSTART:20251102T060000
END:STANDARD
BEGIN:DAYLIGHT
TZOFFSETFROM:-0500
TZOFFSETTO:-0400
TZNAME:EDT
DTSTART:20260308T070000
END:DAYLIGHT
BEGIN:STANDARD
TZOFFSETFROM:-0400
TZOFFSETTO:-0500
TZNAME:EST
DTSTART:20261101T060000
END:STANDARD
BEGIN:DAYLIGHT
TZOFFSETFROM:-0500
TZOFFSETTO:-0400
TZNAME:EDT
DTSTART:20270314T070000
END:DAYLIGHT
BEGIN:STANDARD
TZOFFSETFROM:-0400
TZOFFSETTO:-0500
TZNAME:EST
DTSTART:20271107T060000
END:STANDARD
END:VTIMEZONE
BEGIN:VEVENT
DTSTART;TZID=America/New_York:20260519T190000
DTEND;TZID=America/New_York:20260519T210000
DTSTAMP:20260419T131536
CREATED:20260303T195343Z
LAST-MODIFIED:20260303T195343Z
UID:4655-1779217200-1779224400@www.ontheroadbookevents.com
SUMMARY:Meet Eloisa James\, Literary Titan of Historical Romance
DESCRIPTION:Won’t you join us as author Eloisa James reads from\, discusses and signs copies of The Last Lady B\, her latest historical novel? Lady B may have married Bluebeard; she may have fallen in love with a gorgeous\, grumpy solicitor; she may have met a ghost and survived to tell the tale! New York Times and USA TODAY bestselling author Eloisa James delights with witty historical romance with a gothic twist. Eloisa James is a New York Times and USA TODAY bestselling author of historical romance novels. Her books have been translated into twenty-six languages with sales worldwide of seven million. As Mary Bly\, she is a Shakespeare professor at Fordham University. She lives in New York City and Florence\, Italy. Find out more at EloisaJames.com\, but join us for this entertaining event where copies of The Last Lady B will be available for purchase.
URL:https://www.ontheroadbookevents.com/event/meet-eloisa-james-literary-titan-of-historical-romance/
LOCATION:Rockville Centre Library\, 221 N Village Ave\, Rockville Centre\, NY\, 11570\, United States
ORGANIZER;CN="Carol Hoenig":MAILTO:Carol@ontheroadbookevents.com
END:VEVENT
END:VCALENDAR