BEGIN:VCALENDAR
VERSION:2.0
PRODID:-//On the Road Book Events - ECPv6.15.17.1//NONSGML v1.0//EN
CALSCALE:GREGORIAN
METHOD:PUBLISH
X-WR-CALNAME:On the Road Book Events
X-ORIGINAL-URL:https://www.ontheroadbookevents.com
X-WR-CALDESC:Events for On the Road Book Events
REFRESH-INTERVAL;VALUE=DURATION:PT1H
X-Robots-Tag:noindex
X-PUBLISHED-TTL:PT1H
BEGIN:VTIMEZONE
TZID:America/New_York
BEGIN:DAYLIGHT
TZOFFSETFROM:-0500
TZOFFSETTO:-0400
TZNAME:EDT
DTSTART:20250309T070000
END:DAYLIGHT
BEGIN:STANDARD
TZOFFSETFROM:-0400
TZOFFSETTO:-0500
TZNAME:EST
DTSTART:20251102T060000
END:STANDARD
BEGIN:DAYLIGHT
TZOFFSETFROM:-0500
TZOFFSETTO:-0400
TZNAME:EDT
DTSTART:20260308T070000
END:DAYLIGHT
BEGIN:STANDARD
TZOFFSETFROM:-0400
TZOFFSETTO:-0500
TZNAME:EST
DTSTART:20261101T060000
END:STANDARD
BEGIN:DAYLIGHT
TZOFFSETFROM:-0500
TZOFFSETTO:-0400
TZNAME:EDT
DTSTART:20270314T070000
END:DAYLIGHT
BEGIN:STANDARD
TZOFFSETFROM:-0400
TZOFFSETTO:-0500
TZNAME:EST
DTSTART:20271107T060000
END:STANDARD
END:VTIMEZONE
BEGIN:VEVENT
DTSTART;TZID=America/New_York:20260328T120000
DTEND;TZID=America/New_York:20260328T150000
DTSTAMP:20260421T143558
CREATED:20260207T161621Z
LAST-MODIFIED:20260207T161621Z
UID:4643-1774699200-1774710000@www.ontheroadbookevents.com
SUMMARY:Guest Speaker for Momma's House Fundraiser
DESCRIPTION:Get your tickets here: https://www.mommashouse.org/book-author-luncheon-tickets
URL:https://www.ontheroadbookevents.com/event/guest-speaker-for-mommas-house-fundraiser/
LOCATION:Muttontown Club\, 5933 Northern Blvd.\, East Norwich\, NY 11732\, NY\, 11732\, United States
END:VEVENT
END:VCALENDAR