BEGIN:VCALENDAR
VERSION:2.0
PRODID:-//On the Road Book Events - ECPv6.15.17.1//NONSGML v1.0//EN
CALSCALE:GREGORIAN
METHOD:PUBLISH
X-ORIGINAL-URL:https://www.ontheroadbookevents.com
X-WR-CALDESC:Events for On the Road Book Events
REFRESH-INTERVAL;VALUE=DURATION:PT1H
X-Robots-Tag:noindex
X-PUBLISHED-TTL:PT1H
BEGIN:VTIMEZONE
TZID:America/New_York
BEGIN:DAYLIGHT
TZOFFSETFROM:-0500
TZOFFSETTO:-0400
TZNAME:EDT
DTSTART:20250309T070000
END:DAYLIGHT
BEGIN:STANDARD
TZOFFSETFROM:-0400
TZOFFSETTO:-0500
TZNAME:EST
DTSTART:20251102T060000
END:STANDARD
BEGIN:DAYLIGHT
TZOFFSETFROM:-0500
TZOFFSETTO:-0400
TZNAME:EDT
DTSTART:20260308T070000
END:DAYLIGHT
BEGIN:STANDARD
TZOFFSETFROM:-0400
TZOFFSETTO:-0500
TZNAME:EST
DTSTART:20261101T060000
END:STANDARD
BEGIN:DAYLIGHT
TZOFFSETFROM:-0500
TZOFFSETTO:-0400
TZNAME:EDT
DTSTART:20270314T070000
END:DAYLIGHT
BEGIN:STANDARD
TZOFFSETFROM:-0400
TZOFFSETTO:-0500
TZNAME:EST
DTSTART:20271107T060000
END:STANDARD
END:VTIMEZONE
BEGIN:VEVENT
DTSTART;TZID=America/New_York:20260507T190000
DTEND;TZID=America/New_York:20260507T210000
DTSTAMP:20260419T142928
CREATED:20260227T211609Z
LAST-MODIFIED:20260316T154846Z
UID:4649-1778180400-1778187600@www.ontheroadbookevents.com
SUMMARY:In Conversation with Award-Winning Author\, Bob Spitz
DESCRIPTION:  \n \n \nFrom the award-winning\, best-selling author of classic histories of the Beatles and Led Zeppelin\, Bob Spitz will be joining author\, Carol Hoenig\, to discuss his latest tour de force\, a groundbreaking reckoning with the world’s greatest rock ‘n’ roll band\, The Rolling Stones: The Biography\, which has been named a most anticipated book of 2026 by The New York Times. He’ll share why the Stones have endured and so much more! Bob Spitz is the award-winning author of the biographies The Beatles and Dearie: The Remarkable Life of Julia Child\, both New York Times bestsellers\, as well as six other nonfiction books and a screenplay. He helped manage Bruce Springsteen and Elton John at crucial points in their careers. He’s written hundreds of major profiles of figures\, ranging from Keith Richards to Jane Fonda\, from Paul McCartney to Paul Bowles. Bob Spitz will be happy to sign copies of The Rolling Stones: The Biography\, which will be available for purchase at this exciting event. Let us know you’re coming!
URL:https://www.ontheroadbookevents.com/event/in-conversation-with-award-winning-author-bob-spitz/
LOCATION:Rockville Centre Library\, 221 N Village Ave\, Rockville Centre\, NY\, 11570\, United States
ORGANIZER;CN="Carol Hoenig":MAILTO:Carol@ontheroadbookevents.com
END:VEVENT
END:VCALENDAR